BEGIN:VCALENDAR
VERSION:2.0
PRODID:-//ChamberMaster//Event Calendar 2.0//EN
METHOD:PUBLISH
X-PUBLISHED-TTL:P1H
REFRESH-INTERVAL:P1H
CALSCALE:GREGORIAN
BEGIN:VTIMEZONE
TZID:America/New_York
BEGIN:DAYLIGHT
RRULE:FREQ=YEARLY;BYMONTH=3;BYDAY=2SU
DTSTART:20070101T000000
TZOFFSETFROM:-0500
TZOFFSETTO:-0400
TZNAME:Eastern Daylight Time
END:DAYLIGHT
BEGIN:STANDARD
RRULE:FREQ=YEARLY;BYMONTH=11;BYDAY=1SU
DTSTART:20070101T000000
TZOFFSETFROM:-0400
TZOFFSETTO:-0500
TZNAME:Eastern Standard Time
END:STANDARD
END:VTIMEZONE
BEGIN:VEVENT
DTSTART;TZID=America/New_York:20260429T120000
DTEND;TZID=America/New_York:20260429T130000
X-MICROSOFT-CDO-ALLDAYEVENT:FALSE
SUMMARY:Ribbon Cutting Event Citadel Self Storage
DESCRIPTION:Join us for the grand opening and solar array ribbon cutting of Citadel Self Storage's newest location! Enjoy refreshments\, take a tour\, and learn more about the new rooftop solar installation's positive environmental and financial impact.RSVP HERE
X-ALT-DESC;FMTTYPE=text/html:<!DOCTYPE html><html><head><title></title></head><body aria-disabled="false"><p><span style="font-family: Verdana\,Geneva\,sans-serif\;">Join us for the grand opening and solar array ribbon cutting of Citadel Self Storage&rsquo\;s newest location! Enjoy refreshments\, take a tour\, and learn more about the new rooftop solar installation&rsquo\;s positive environmental and financial impact.</span></p><p><a fr-original-style="" href="http://bit.ly/citadel-rc" style="user-select: auto\;"><span style="background-color: rgb(250\, 197\, 28)\;"><span style="font-family: Verdana\,Geneva\,sans-serif\;">RSVP HERE</span></span></a></p></body></html>
LOCATION:3756 Beechmont CT Cincinnati OH 45226
UID:e.4039.1450041
SEQUENCE:3
DTSTAMP:20260424T215852Z
URL:https://business.clermontchamber.com/chamber-calendar/Details/ribbon-cutting-event-citadel-self-storage-1717625?sourceTypeId=Hub
END:VEVENT
END:VCALENDAR
